BEGIN:VCALENDAR
VERSION:2.0
PRODID:-//chikkutakku.com//RDFCal 1.0//EN
X-WR-CALDESC:GoogleカレンダーやiCalendar形式情報を共有シェ
 アしましょう。近所のイベントから全国のイベントま
 で今日のイベント検索やスケジュールを決めるならち
 っくたっく
X-WR-CALNAME:ちっくたっく
X-WR-TIMEZONE:UTC
BEGIN:VEVENT
SUMMARY:【注】進撃の巨人 Season3 #38 狼煙 / #39 痛み / #40 昔
 話 / #41 信頼 / #42 回答 / #43 罪 / #44 願い / #45 オルブド区
 外壁 / #46 壁の王 / #47 友人 / #48 傍観者 / #49 奪還作戦の
 夜 / #50 / #51 / #52 / #53 / #54 / #55 / #56 / #57 / #58 / #59
DTSTART;VALUE=DATE-TIME:20260422T190000Z
DTEND;VALUE=DATE-TIME:20260423T060000Z
UID:301796207239
DESCRIPTION: / #38 狼煙 / #39 痛み / #40 昔話 / #41 信頼 / #42 回
 答 / #43 罪 / #44 願い / #45 オルブド区外壁 / #46 壁の王 / #
 47 友人 / #48 傍観者 / #49 奪還作戦の夜 / #50 / #51 / #52 / #53
  / #54 / #55 / #56 / #57 / #58 / #59 / https://abema.tv/channels/abema-ani
 me-2/slots/Ah77qM68upuwtB リピート放送は アニメLIVEチャンネ
 ル 4/23(木) 24:15～ https://abema.tv/channels/anime-live/slots/AkN7aM3m
 aoVgCf (無料TS1週間)
LOCATION:Abemaアニメ2
END:VEVENT
END:VCALENDAR
