BEGIN:VCALENDAR
VERSION:2.0
PRODID:-//chikkutakku.com//RDFCal 1.0//EN
X-WR-CALDESC:GoogleカレンダーやiCalendar形式情報を共有シェ
 アしましょう。近所のイベントから全国のイベントま
 で今日のイベント検索やスケジュールを決めるならち
 っくたっく
X-WR-CALNAME:ちっくたっく
X-WR-TIMEZONE:UTC
BEGIN:VEVENT
SUMMARY: 三遠 - 富山
DTSTART;VALUE=DATE-TIME:20260422T100500Z
DTEND;VALUE=DATE-TIME:20260422T120500Z
UID:302077967880
DESCRIPTION:
LOCATION:豊橋市総合体育館
END:VEVENT
END:VCALENDAR
