BEGIN:VCALENDAR
VERSION:2.0
PRODID:-//chikkutakku.com//RDFCal 1.0//EN
X-WR-CALDESC:GoogleカレンダーやiCalendar形式情報を共有シェ
 アしましょう。近所のイベントから全国のイベントま
 で今日のイベント検索やスケジュールを決めるならち
 っくたっく
X-WR-CALNAME:ちっくたっく
X-WR-TIMEZONE:UTC
BEGIN:VEVENT
SUMMARY:【注】姫様“拷問”の時間です #1  / #2  / #3  / #4  /
  #5  / #6  / #7  / #8  / #9  / #10  / #11  / #12  / #13 / #14 / #15 / #16 
 / #17 / #18 / #19 / #20 / #21 / #22 / #23 / #24
DTSTART;VALUE=DATE-TIME:20260425T110000Z
DTEND;VALUE=DATE-TIME:20260425T230000Z
UID:302613128140
DESCRIPTION: / #1  / #2  / #3  / #4  / #5  / #6  / #7  / #8  / #9  / #10  
 / #11  / #12  / #13 / #14 / #15 / #16 / #17 / #18 / #19 / #20 / #21 / #22 
 / #23 / #24 / ([[異世界・ファンタジー3 https://abema.tv/timetabl
 e/channels/isekai-anime-3]]) https://abema.tv/channels/isekai-anime-3/slot
 s/Ah77or5ipXe79H (無料TS1週間) ※リピート放送なし
LOCATION:ABEMA特設その他
END:VEVENT
END:VCALENDAR
