BEGIN:VCALENDAR
VERSION:2.0
PRODID:-//chikkutakku.com//RDFCal 1.0//EN
X-WR-CALDESC:GoogleカレンダーやiCalendar形式情報を共有シェ
 アしましょう。近所のイベントから全国のイベントま
 で今日のイベント検索やスケジュールを決めるならち
 っくたっく
X-WR-CALNAME:ちっくたっく
X-WR-TIMEZONE:UTC
BEGIN:VEVENT
SUMMARY:VRマダミス『亡霊島殺人事件 next loop & final loop』
DTSTART;VALUE=DATE-TIME:20260425T120000Z
DTEND;VALUE=DATE-TIME:20260425T145900Z
UID:303878140650
DESCRIPTION:【イベント主催者】\n　イマーシブクラウド\n
 【イベント内容】\n　VRマーダーミステリー『亡霊島殺
 人事件 next loop & final loop』を一緒に遊ぼう！\n【イベン
 トジャンル】\n　その他交流会\, ロールプレイ\, 初心者
 向けイベント\, 定期イベント\n【参加条件（モデル、人
 数制限など）】\n　前作『亡霊島殺人事件』をプレイし
 た人限定\n【参加方法】\n　イマーシブクラウドのディ
 スコードサーバーに入って該当チャンネルに参加申し
 込みを書き込む\n【備考】\n　https://x.com/immersivecloud/statu
 s/2039713403649049001?s=20
LOCATION:
END:VEVENT
END:VCALENDAR
