BEGIN:VCALENDAR
VERSION:2.0
PRODID:-//chikkutakku.com//RDFCal 1.0//EN
X-WR-CALDESC:GoogleカレンダーやiCalendar形式情報を共有シェ
 アしましょう。近所のイベントから全国のイベントま
 で今日のイベント検索やスケジュールを決めるならち
 っくたっく
X-WR-CALNAME:ちっくたっく
X-WR-TIMEZONE:UTC
BEGIN:VEVENT
SUMMARY:〇〇あったらやってみて! AKIHOの材料ひとつから
 作れる満足ごはん
DTSTART;VALUE=DATE:20260426
DTEND;VALUE=DATE:20260427
UID:304072284356
DESCRIPTION:2026-04-27〇〇あったらやってみて! AKIHOの材料ひ
 とつから作れる満足ごはんAKIHO宝島社
LOCATION:
END:VEVENT
END:VCALENDAR
