BEGIN:VCALENDAR
VERSION:2.0
PRODID:-//chikkutakku.com//RDFCal 1.0//EN
X-WR-CALDESC:GoogleカレンダーやiCalendar形式情報を共有シェ
 アしましょう。近所のイベントから全国のイベントま
 で今日のイベント検索やスケジュールを決めるならち
 っくたっく
X-WR-CALNAME:ちっくたっく
X-WR-TIMEZONE:UTC
BEGIN:VEVENT
SUMMARY:『新宿宇宙塵 Vol.4』
DTSTART;VALUE=DATE:20260508
DTEND;VALUE=DATE:20260509
UID:304761829558
DESCRIPTION:OPEN 18:30  START 19:00  CHARGE adv¥4000 / door¥4500\nact\
 nGLITTER TWINS (THE MONOLITH)\nらいむらいと
LOCATION:
END:VEVENT
END:VCALENDAR
