BEGIN:VCALENDAR
VERSION:2.0
PRODID:-//chikkutakku.com//RDFCal 1.0//EN
X-WR-CALDESC:GoogleカレンダーやiCalendar形式情報を共有シェ
 アしましょう。近所のイベントから全国のイベントま
 で今日のイベント検索やスケジュールを決めるならち
 っくたっく
X-WR-CALNAME:ちっくたっく
X-WR-TIMEZONE:UTC
BEGIN:VEVENT
SUMMARY:CN di Ginn. Ritmica
DTSTART;VALUE=DATE:20260509
DTEND;VALUE=DATE:20260517
UID:304795783596
DESCRIPTION:CN di Ginn. Ritmica
LOCATION:Bella Italia Village\, Viale Centrale\, 29\, 33054 Lignano Sabbia
 doro UD\, Italia
END:VEVENT
END:VCALENDAR
