BEGIN:VCALENDAR
VERSION:2.0
PRODID:-//chikkutakku.com//RDFCal 1.0//EN
X-WR-CALDESC:GoogleカレンダーやiCalendar形式情報を共有シェ
 アしましょう。近所のイベントから全国のイベントま
 で今日のイベント検索やスケジュールを決めるならち
 っくたっく
X-WR-CALNAME:ちっくたっく
X-WR-TIMEZONE:UTC
BEGIN:VEVENT
SUMMARY:FOOD for ALL すべての人に食べものを
DTSTART;VALUE=DATE:20260521
DTEND;VALUE=DATE:20260522
UID:304829850678
DESCRIPTION:2026-05-22FOOD for ALL すべての人に食べものをメア
 リ・ホフマン/ロス・アスクィス/杉本詠美少年写真新聞
 社
LOCATION:
END:VEVENT
END:VCALENDAR
