BEGIN:VCALENDAR
VERSION:2.0
PRODID:-//chikkutakku.com//RDFCal 1.0//EN
X-WR-CALDESC:GoogleカレンダーやiCalendar形式情報を共有シェ
 アしましょう。近所のイベントから全国のイベントま
 で今日のイベント検索やスケジュールを決めるならち
 っくたっく
X-WR-CALNAME:ちっくたっく
X-WR-TIMEZONE:UTC
BEGIN:VEVENT
SUMMARY:彦根 Bar貴園
DTSTART;VALUE=DATE-TIME:20260504T000000Z
DTEND;VALUE=DATE-TIME:20260504T010000Z
UID:305161461061
DESCRIPTION:5/4（祝）彦根 Bar貴園\nopen18:30 start19:00\n通常営
 業＋投げ銭よろしく！\n出演：黄昏brothers、森香\n〒522-0
 083 滋賀県彦根市河原２丁目４−２４
LOCATION:
END:VEVENT
END:VCALENDAR
