BEGIN:VCALENDAR
VERSION:2.0
PRODID:-//chikkutakku.com//RDFCal 1.0//EN
X-WR-CALDESC:GoogleカレンダーやiCalendar形式情報を共有シェ
 アしましょう。近所のイベントから全国のイベントま
 で今日のイベント検索やスケジュールを決めるならち
 っくたっく
X-WR-CALNAME:ちっくたっく
X-WR-TIMEZONE:UTC
BEGIN:VEVENT
SUMMARY:【初心者歓迎】「Conductor」【Bar接客イベント】
DTSTART;VALUE=DATE-TIME:20260421T120000Z
DTEND;VALUE=DATE-TIME:20260421T125500Z
UID:305675194717
DESCRIPTION:【イベント主催者】\n　杉崎リン\n【イベント
 内容】\n　本命イベント前にふらっと寄れるBARイベント
 です。\n七つの大罪キャストが貴方をお迎えします。\n\
 n・イベント参加初心者の方\n・新しいイベントをお探
 しの方\n・のんびり会話をしたい方\n・楽しくお酒を飲
 みたい方\n\nどなたでも大歓迎です！！\n気になった方
 はぜひ遊びに来てください\n\n 曜日不定21：00～21：55\n
 【イベントジャンル】\n　店舗系イベント\, 初心者向け
 イベント\n【参加条件（モデル、人数制限など）】\n　
 日本語でのコミュニケーションが可能な方\n他のお客様
 の迷惑になるアバター、発言などはお控えください\n【
 参加方法】\n　参加方法\n・Discordサーバーでの当日事前
 抽選（公式Xアカウントにサーバーのリンク有）\n・２
 １時にインスタンスリーダーにjoin\nどちらの方法でも
 参加可能です。\n【備考】\n　参加方法やイベント内容
 の詳細は公式アカウント、イベント用ハッシュタグな
 どでご確認ください\n公式アカウントに事前抽選用のサ
 ーバーのリンクもあります。\nX公式アカウント https://x.
 com/Conductor_vrc\nイベント用ハッシュタグ #VRC_Conductor
LOCATION:
END:VEVENT
END:VCALENDAR
