BEGIN:VCALENDAR
VERSION:2.0
PRODID:-//chikkutakku.com//RDFCal 1.0//EN
X-WR-CALDESC:GoogleカレンダーやiCalendar形式情報を共有シェ
 アしましょう。近所のイベントから全国のイベントま
 で今日のイベント検索やスケジュールを決めるならち
 っくたっく
X-WR-CALNAME:ちっくたっく
X-WR-TIMEZONE:UTC
BEGIN:VEVENT
SUMMARY:ハイジ #33 「 ゆうれい騒動」
DTSTART;VALUE=DATE-TIME:20260423T113000Z
DTEND;VALUE=DATE-TIME:20260423T120000Z
UID:305825915900
DESCRIPTION:33 /  ゆうれい騒動 / 
LOCATION:J:COM BS
END:VEVENT
END:VCALENDAR
