BEGIN:VCALENDAR
VERSION:2.0
PRODID:-//chikkutakku.com//RDFCal 1.0//EN
X-WR-CALDESC:GoogleカレンダーやiCalendar形式情報を共有シェ
 アしましょう。近所のイベントから全国のイベントま
 で今日のイベント検索やスケジュールを決めるならち
 っくたっく
X-WR-CALNAME:ちっくたっく
X-WR-TIMEZONE:UTC
BEGIN:VEVENT
SUMMARY:鰤の大晦日
DTSTART;VALUE=DATE-TIME:20260424T150000Z
DTEND;VALUE=DATE-TIME:20260425T150000Z
UID:306401615922
DESCRIPTION:アメリカで映像制作のキャリアを積み、帰国
 後に自主制作で手がけた作品が国内外の映画祭で上映
 されている西安健監督が、2014年に発表した短編。年末
 の慌ただしい空気の中で、夫婦の関係や周囲との距離
 感が浮かび上がる日常劇。\n\n大みそかの東京。志保と
 夫の淳平は、お歳暮としてブリをもらうものの、さば
 くことができず扱いに困ってしまう。引き取り手を探
 して友人や知人に連絡を取るが、なかなか見つからな
 いばかりか、子どもがいないことについて心ない言葉
 を向けられる場面にも直面する。行き場のない思いを
 抱えるなか、志保は長らく疎遠になっていた叔父の存
 在を思い出し、夫とともに街へ出る。\n\n第16回長岡イ
 ンディーズムービーコンペティションで奨励賞受賞、
 第9回札幌国際短編映画祭入選。西安監督の短編3作品を
 同時上映する「『とうちゃん』 『鰤の大晦日』 『風船
 の行方』 西安健短編特集」にて劇場公開。\n作品紹介
 ページ：https://eiga.com/movie/105864/
LOCATION:
END:VEVENT
END:VCALENDAR
