BEGIN:VCALENDAR
VERSION:2.0
PRODID:-//chikkutakku.com//RDFCal 1.0//EN
X-WR-CALDESC:GoogleカレンダーやiCalendar形式情報を共有シェ
 アしましょう。近所のイベントから全国のイベントま
 で今日のイベント検索やスケジュールを決めるならち
 っくたっく
X-WR-CALNAME:ちっくたっく
X-WR-TIMEZONE:UTC
BEGIN:VEVENT
SUMMARY:新・黎明俳壇 第16号
DTSTART;VALUE=DATE:20260421
DTEND;VALUE=DATE:20260422
UID:307072533362
DESCRIPTION:2026-04-22新・黎明俳壇 第16号黎明書房編集部黎
 明書房
LOCATION:
END:VEVENT
END:VCALENDAR
