BEGIN:VCALENDAR
VERSION:2.0
PRODID:-//chikkutakku.com//RDFCal 1.0//EN
X-WR-CALDESC:GoogleカレンダーやiCalendar形式情報を共有シェ
 アしましょう。近所のイベントから全国のイベントま
 で今日のイベント検索やスケジュールを決めるならち
 っくたっく
X-WR-CALNAME:ちっくたっく
X-WR-TIMEZONE:UTC
BEGIN:VEVENT
SUMMARY:【Android 対応】【初イベに！】Bar.SUIGA【雑談Bar】
DTSTART;VALUE=DATE-TIME:20260425T140000Z
DTEND;VALUE=DATE-TIME:20260425T145900Z
UID:307169415478
DESCRIPTION:【イベント主催者】\n　シルル＠VR\n【イベン
 ト内容】\n　初心者さんはまずここへ！！！VRCのあれこ
 れに改変の事も聞いちゃって！！！\n毎週水～土曜、23
 時～24時営業のバースタイル雑談イベントとなっており
 ます。\nVisiterさんからTrustedさんまでどなたも大歓迎！\
 nお酒を飲む、趣味、改変の話なんでも好きなことを、
 相談の場や交流の場としてぜひ！\n麻雀「TANKI」等の遊
 べるギミック、当店限定のオリジナルカクテルも！\nス
 タッフやお客様同士、寝る前のひと時を楽しみません
 か？\n【イベントジャンル】\n　その他交流会\, 店舗系
 イベント\, 初心者向けイベント\, 定期イベント\n【参加
 条件（モデル、人数制限など）】\n　グループ+の為グ
 ループ加入or加入済みのフレンドさんとお越しください
 。グループ検索→SUIGA.1819\n※違法版権アバター、巨大
 なアバター、過度なパーティクル等はご遠慮ください\n
 【参加方法】\n　\n【備考】\n　
LOCATION:
END:VEVENT
END:VCALENDAR
