BEGIN:VCALENDAR
VERSION:2.0
PRODID:-//chikkutakku.com//RDFCal 1.0//EN
X-WR-CALDESC:GoogleカレンダーやiCalendar形式情報を共有シェ
 アしましょう。近所のイベントから全国のイベントま
 で今日のイベント検索やスケジュールを決めるならち
 っくたっく
X-WR-CALNAME:ちっくたっく
X-WR-TIMEZONE:UTC
BEGIN:VEVENT
SUMMARY:Creative Group Sewing Day
DTSTART;VALUE=DATE-TIME:20260502T180000Z
DTEND;VALUE=DATE-TIME:20260502T230000Z
UID:307469302728
DESCRIPTION:Come and help Jolene quilt the one-handle tote for the Ronald 
 McDonald House.  Please bring your basic sewing kit.  If we have time we
  will sew the tote together.\nThanks in advance for helping with this proj
 ect.
LOCATION:
END:VEVENT
END:VCALENDAR
