BEGIN:VCALENDAR
VERSION:2.0
PRODID:-//chikkutakku.com//RDFCal 1.0//EN
X-WR-CALDESC:GoogleカレンダーやiCalendar形式情報を共有シェ
 アしましょう。近所のイベントから全国のイベントま
 で今日のイベント検索やスケジュールを決めるならち
 っくたっく
X-WR-CALNAME:ちっくたっく
X-WR-TIMEZONE:UTC
BEGIN:VEVENT
SUMMARY:【注】落第騎士の英雄譚 #1 落第騎士 I / #2 落第騎
 士 II / #3 落第騎士 III / #4 落第騎士 IV / #5 皇女の体験 / #
 6 剣士殺し I / #7 剣士殺し II / #8 剣士殺し III / #9 皇女の
 休日 / #10 深海の魔女VS雷切 / #11 無冠の剣王 I / #12 無冠
 の剣王 II
DTSTART;VALUE=DATE-TIME:20260424T170000Z
DTEND;VALUE=DATE-TIME:20260424T230000Z
UID:307764014728
DESCRIPTION: / #1 落第騎士 I / #2 落第騎士 II / #3 落第騎士 II
 I / #4 落第騎士 IV / #5 皇女の体験 / #6 剣士殺し I / #7 剣
 士殺し II / #8 剣士殺し III / #9 皇女の休日 / #10 深海の魔
 女VS雷切 / #11 無冠の剣王 I / #12 無冠の剣王 II / https://abe
 ma.tv/channels/late-night-anime/slots/AkN7YXXnZGsrco リピート放送は
  4/25(土) 8:00～ https://abema.tv/channels/late-night-anime/slots/AkN7Yq
 7ddf21zF 、アニメSPECIAL2チャンネル 4/25(土) 14:00～ https://ab
 ema.tv/channels/anime-special-2/slots/Ah77qMcVnhWoDh (無料TS1週間)
LOCATION:深夜アニメ
END:VEVENT
END:VCALENDAR
