BEGIN:VCALENDAR
VERSION:2.0
PRODID:-//chikkutakku.com//RDFCal 1.0//EN
X-WR-CALDESC:GoogleカレンダーやiCalendar形式情報を共有シェ
 アしましょう。近所のイベントから全国のイベントま
 で今日のイベント検索やスケジュールを決めるならち
 っくたっく
X-WR-CALNAME:ちっくたっく
X-WR-TIMEZONE:UTC
BEGIN:VEVENT
SUMMARY:JUST DANCEで遊びませんか？
DTSTART;VALUE=DATE-TIME:20260420T110000Z
DTEND;VALUE=DATE-TIME:20260420T120000Z
UID:308059814143
DESCRIPTION:【イベント主催者】\n　ogo_おご\n【イベント内
 容】\n　みんなで一緒に Just Dance の動画を観ながら踊る
 、そんなダンスイベントです。\nダンスが初めての方で
 もマネするだけでOK！みんなで揃える「一体感」が最高
 ！\nビシッとポーズが揃った時の爽快感は、一度味わっ
 たらクセになるはず。初心者さんも経験者さんも一緒
 に楽しみましょう！\n【イベントジャンル】\n　音楽系
 イベント\n【参加条件（モデル、人数制限など）】\n　
 高負荷・広範囲なギミックやパーティクルの使用はお
 控えください。\n【参加方法】\n　「ogo_おご」にフレン
 ドリクエスト後、時間になったらインスタンスにJOIN！\
 nインスタンスに入ったら動画が流れているので一緒に
 踊りましょう！\n【備考】\n　参加前に飲み物やタオル
 を用意しておくと安心です。\n撮影する際は周りの方に
 許可を取る様お願いします。\n毎週月曜日の20時に開催
 しているかもしれないです。
LOCATION:
END:VEVENT
END:VCALENDAR
