BEGIN:VCALENDAR
VERSION:2.0
PRODID:-//chikkutakku.com//RDFCal 1.0//EN
X-WR-CALDESC:GoogleカレンダーやiCalendar形式情報を共有シェ
 アしましょう。近所のイベントから全国のイベントま
 で今日のイベント検索やスケジュールを決めるならち
 っくたっく
X-WR-CALNAME:ちっくたっく
X-WR-TIMEZONE:UTC
BEGIN:VEVENT
SUMMARY:【Android 対応】深夜0時におちます終会
DTSTART;VALUE=DATE-TIME:20260424T144500Z
DTEND;VALUE=DATE-TIME:20260424T145900Z
UID:308520915459
DESCRIPTION:【イベント主催者】\n　新arata\, パズ_PAZ\, あか
 ぼうず\, ibakyu\, ネオレイ\, natsu-white\, 菅原のタツジ\, ま
 るさん\, fcode\, miyako_TNT\, 海野夜見\, 鳳丈 橙蘭\, めるこ
 ちゃん\, おかゆ。\,Sheena_baobab\, Hachi8×8×8\, ユウユウ\, 
 匠/takumi\, のらたま\, Sa-maru（さーまる）\, のあいちご\, 
 パッキー226\, プォカリス・エット\, yamaneko013\, memepi\, okw
 sin\, ひなげし【】\, イザベラさん\, 澤村さん\, shigezou\, 
 FUTOTI[ふとち]\, Paroji-ぱろじ\, きんにく\, tamakusu\, よるめ
 し\, ankorone\, そうりん〈Sourin〉\, rapismile\, ななつないん
 _729\, ゆうちゃろう\, もぬーら\, さめチャン\n【イベン
 ト内容】\n　23:45に集まり、太極拳とマッチョ体操を行
 い、24:00になったら集合写真を撮って時報とともに爆発
 して落下したまま解散する集会です！毎日開催です！\n
 【イベントジャンル】\n　その他交流会\, 初心者向けイ
 ベント\, 定期イベント\n【参加条件（モデル、人数制限
 など）】\n　イベントの進行に支障がないような行動・
 アバターの利用をお願いいたします。\n【参加方法】\n
 　深夜0時におちます終会のグループであるジホジホ駐
 車場（深夜0時におちます終会）(https://vrc.group/JIHOU0.1213)
  に参加して、開始時刻になったらjoin(インスタンスはGr
 oup+でたてています)\n\n\n【備考】\n　ハッシュタグは#深
 夜0時におちます終会
LOCATION:
END:VEVENT
END:VCALENDAR
