BEGIN:VCALENDAR
VERSION:2.0
PRODID:-//chikkutakku.com//RDFCal 1.0//EN
X-WR-CALDESC:GoogleカレンダーやiCalendar形式情報を共有シェ
 アしましょう。近所のイベントから全国のイベントま
 で今日のイベント検索やスケジュールを決めるならち
 っくたっく
X-WR-CALNAME:ちっくたっく
X-WR-TIMEZONE:UTC
BEGIN:VEVENT
SUMMARY:きれい・かわいい・おいしい！を記録する おと
 なの色鉛筆イラスト帖
DTSTART;VALUE=DATE:20260519
DTEND;VALUE=DATE:20260520
UID:308795469977
DESCRIPTION:2026-05-20きれい・かわいい・おいしい！を記録
 する おとなの色鉛筆イラスト帖若林眞弓日本文芸社
LOCATION:
END:VEVENT
END:VCALENDAR
