BEGIN:VCALENDAR
VERSION:2.0
PRODID:-//chikkutakku.com//RDFCal 1.0//EN
X-WR-CALDESC:GoogleカレンダーやiCalendar形式情報を共有シェ
 アしましょう。近所のイベントから全国のイベントま
 で今日のイベント検索やスケジュールを決めるならち
 っくたっく
X-WR-CALNAME:ちっくたっく
X-WR-TIMEZONE:UTC
BEGIN:VEVENT
SUMMARY:転生したらスライムだった件(5) #76 「招待状」
DTSTART;VALUE=DATE-TIME:20260424T140000Z
DTEND;VALUE=DATE-TIME:20260424T143000Z
UID:309280879867
DESCRIPTION:76 / 招待状 / !5/1は放送休止 https://www.ten-sura.com/
 news/anime/tensura/news/post/11385
LOCATION:日本テレビ
END:VEVENT
END:VCALENDAR
