BEGIN:VCALENDAR
VERSION:2.0
PRODID:-//chikkutakku.com//RDFCal 1.0//EN
X-WR-CALDESC:GoogleカレンダーやiCalendar形式情報を共有シェ
 アしましょう。近所のイベントから全国のイベントま
 で今日のイベント検索やスケジュールを決めるならち
 っくたっく
X-WR-CALNAME:ちっくたっく
X-WR-TIMEZONE:UTC
BEGIN:VEVENT
SUMMARY:金融コンプライアンス・オフィサー2級 問題解説
 集2026年度受験用
DTSTART;VALUE=DATE:20260514
DTEND;VALUE=DATE:20260515
UID:309520307071
DESCRIPTION:2026-05-15金融コンプライアンス・オフィサー2級
  問題解説集2026年度受験用経済法令研究会
LOCATION:
END:VEVENT
END:VCALENDAR
