BEGIN:VCALENDAR
VERSION:2.0
PRODID:-//chikkutakku.com//RDFCal 1.0//EN
X-WR-CALDESC:GoogleカレンダーやiCalendar形式情報を共有シェ
 アしましょう。近所のイベントから全国のイベントま
 で今日のイベント検索やスケジュールを決めるならち
 っくたっく
X-WR-CALNAME:ちっくたっく
X-WR-TIMEZONE:UTC
BEGIN:VEVENT
SUMMARY:第107回技術例会
DTSTART;VALUE=DATE-TIME:20260520T035000Z
DTEND;VALUE=DATE-TIME:20260520T083000Z
UID:309588400553
DESCRIPTION:第107回技術例会\n「永久磁石の材料開発とその
 応用におけるAI活用及び最新動向」\n　AIは永久磁石材
 料開発に活用されており、さらにはそれらを用いるデ
 バイス等の応用開発にも浸透しつつあります。今回はNE
 Vモータ及びAIデバイスの市場動向、AIを用いた永久磁石
 デバイスの開発、ボンド磁石とナノ軟磁性材料を用い
 たモータ、ボンド磁石の開発状況と将来展望及び永久
 磁石の磁区構造と磁化反転をその最前線でご活躍の講
 師の方々に講演をお願いしました。 開催は、現地とZOOM
 を活用したハイブリッド形式で行います。また現地で
 は、交流会も開催いたしますので、講師や参加者の方
 々と直接意見交換を行うことができます。是非ご参加
 ください。\n*********************************************************
 ***********日　時： 2026 年 5 月 20 日 ( 水 )　 12：50 ～ 17：
 15 ( 開場 12：20 )場　所： アートホテル日暮里ラングウ
 ッド ＆ ZOOMのハイブリッド参加費 : 会員5\,000円\, 一般15
 \,000円\, 学生2\,000円（講演要旨・コーヒー代含む）申込
 等 ：Web申込下記仮申し込み欄に申込者emailを記入後、
 仮登録ボタンをクリックしてください。入力されたemail
 に返信メールを送りますので本登録してください。仮
 登録から本登録までのURLの有効期限は10分となります。
 Web予約ができない場合は、当協会ホームページhttps://jab
 m03.comのお問い合わせから、日本ボンド磁性材料協会(JAB
 M) 事務局宛までご連絡くださいe-mail: info@jabm03.com Tel: 03-
 5811-6891 Fax: 03-5811-6892講演要旨集は事前に郵送します。
 申込時に住所等の明記をお願いします。\n\n技術例会案
 内はこちら！\n会員の方はこちらから申込をお願いしま
 す⇒\n\n\n	\n\n	仮申し込み\n	\n	メールアドレスを入力後
 、仮登録ボタンをクリックしてください。こちらの入
 力のみではイベントの登録は行われておりません。メ
 ール本文にあるリンクから本登録を行ってください。
 本登録までのURLの有効期限は10分となります。\n	\n	\n	\n	
 仮登録\n	\n	\n	\n	\n	
LOCATION:アートホテル日暮里ラングウッド&ZOOM
END:VEVENT
END:VCALENDAR
