BEGIN:VCALENDAR
VERSION:2.0
PRODID:-//chikkutakku.com//RDFCal 1.0//EN
X-WR-CALDESC:GoogleカレンダーやiCalendar形式情報を共有シェ
 アしましょう。近所のイベントから全国のイベントま
 で今日のイベント検索やスケジュールを決めるならち
 っくたっく
X-WR-CALNAME:ちっくたっく
X-WR-TIMEZONE:UTC
BEGIN:VEVENT
SUMMARY:ประชุมกรรมการผู้บริหาร
 เทคโนโลยีสารสนเทศระดับสู
 งระดับจังหวัด (PCIO)
DTSTART;VALUE=DATE-TIME:20260421T063000Z
DTEND;VALUE=DATE-TIME:20260421T093000Z
UID:309984051972
DESCRIPTION:通过 Google Meet 加入：https://meet.google.com/zvx-rjbw-n
 wv\n或者拨打以下号码：(TH) +66 2 844 9331 PIN 码： 166740691474
 6#\n更多电话号码: https://tel.meet/zvx-rjbw-nwv?pin=1667406914746&hs
 =7\n\n如需详细了解 Google Meet，请访问：https://support.google.
 com/a/users/answer/9282720
LOCATION:ห้องประชุม 409 ชั้น 4 ศาลาก
 ลางจังหวัดมหาสารคาม
END:VEVENT
END:VCALENDAR
