BEGIN:VCALENDAR
VERSION:2.0
PRODID:-//chikkutakku.com//RDFCal 1.0//EN
X-WR-CALDESC:GoogleカレンダーやiCalendar形式情報を共有シェ
 アしましょう。近所のイベントから全国のイベントま
 で今日のイベント検索やスケジュールを決めるならち
 っくたっく
X-WR-CALNAME:ちっくたっく
X-WR-TIMEZONE:UTC
BEGIN:VEVENT
SUMMARY:【Android 対応】【落語】第四回みみず亭落語会
DTSTART;VALUE=DATE-TIME:20260426T123000Z
DTEND;VALUE=DATE-TIME:20260426T133000Z
UID:310251556122
DESCRIPTION:【イベント主催者】\n　みみず亭蚯蚓\n【イベ
 ント内容】\n　落語家みみず亭蚯蚓による月に一度のVR
 落語イベント！\n今回はゲストにバイオリン奏者のあし
 きさん（@Ashiki_vrc）にご出演いただきます！！\nあしき
 さんの圧巻のパフォーマンスに対してみみず亭蚯蚓は
 どのように立ち向かうのでしょうか！？\nVRならではの
 演出を楽しめるみみず亭落語会にぜひお越しください
 ませ！\n【イベントジャンル】\n　音楽系イベント\, 定
 期イベント\n【参加条件（モデル、人数制限など）】\n
 　特になし\n【参加方法】\n　https://vrc.group/332.6817　よ
 りGroup＋インスタンスで開催します\n【備考】\n　android
 の方もご参加いただけますが、演出に一部差異が生じ
 る場合がございます
LOCATION:
END:VEVENT
END:VCALENDAR
