BEGIN:VCALENDAR
VERSION:2.0
PRODID:-//chikkutakku.com//RDFCal 1.0//EN
X-WR-CALDESC:GoogleカレンダーやiCalendar形式情報を共有シェ
 アしましょう。近所のイベントから全国のイベントま
 で今日のイベント検索やスケジュールを決めるならち
 っくたっく
X-WR-CALNAME:ちっくたっく
X-WR-TIMEZONE:UTC
BEGIN:VEVENT
SUMMARY:ヘーゲル読解入門（下）：『精神現象学』を読む
DTSTART;VALUE=DATE:20260423
DTEND;VALUE=DATE:20260424
UID:310372553839
DESCRIPTION:2026-04-24ヘーゲル読解入門（下）：『精神現象
 学』を読むコジェーヴ/上妻精/今野雅方白水社
LOCATION:
END:VEVENT
END:VCALENDAR
