BEGIN:VCALENDAR
VERSION:2.0
PRODID:-//chikkutakku.com//RDFCal 1.0//EN
X-WR-CALDESC:GoogleカレンダーやiCalendar形式情報を共有シェ
 アしましょう。近所のイベントから全国のイベントま
 で今日のイベント検索やスケジュールを決めるならち
 っくたっく
X-WR-CALNAME:ちっくたっく
X-WR-TIMEZONE:UTC
BEGIN:VEVENT
SUMMARY:全日本レディースソフトテニス京都府大会　全日
 本レディースシニア決勝大会
DTSTART;VALUE=DATE:20260513
DTEND;VALUE=DATE:20260514
UID:310536608279
DESCRIPTION:[イベントカテゴリー]\nレディース主催の試合\
 n\n
LOCATION:HOS向島
END:VEVENT
END:VCALENDAR
