BEGIN:VCALENDAR
VERSION:2.0
PRODID:-//chikkutakku.com//RDFCal 1.0//EN
X-WR-CALDESC:GoogleカレンダーやiCalendar形式情報を共有シェ
 アしましょう。近所のイベントから全国のイベントま
 で今日のイベント検索やスケジュールを決めるならち
 っくたっく
X-WR-CALNAME:ちっくたっく
X-WR-TIMEZONE:UTC
BEGIN:VEVENT
SUMMARY:銀座 La-bas / 今井あさ美(Vo)
DTSTART;VALUE=DATE-TIME:20260424T110000Z
DTEND;VALUE=DATE-TIME:20260424T133000Z
UID:310561726332
DESCRIPTION:03-3289-5986\n5000Yen\n今井あさ美\,vocal 楠直孝\,piano
 \nhttps://www.instagram.com/la_bas0703/
LOCATION:La-bas ラ・ヴァ\, 日本、〒104-0061 東京都中央区銀
 座７丁目２−１１ 菊村ビル ３F
END:VEVENT
END:VCALENDAR
