BEGIN:VCALENDAR
VERSION:2.0
PRODID:-//chikkutakku.com//RDFCal 1.0//EN
X-WR-CALDESC:GoogleカレンダーやiCalendar形式情報を共有シェ
 アしましょう。近所のイベントから全国のイベントま
 で今日のイベント検索やスケジュールを決めるならち
 っくたっく
X-WR-CALNAME:ちっくたっく
X-WR-TIMEZONE:UTC
BEGIN:VEVENT
SUMMARY:悲劇の元凶となる最強外道ラスボス女王は民の為
 に尽くします。13
DTSTART;VALUE=DATE:20260501
DTEND;VALUE=DATE:20260502
UID:310706968765
DESCRIPTION:2026-05-02悲劇の元凶となる最強外道ラスボス女
 王は民の為に尽くします。13天壱/鈴ノ助一迅社
LOCATION:
END:VEVENT
END:VCALENDAR
