BEGIN:VCALENDAR
VERSION:2.0
PRODID:-//chikkutakku.com//RDFCal 1.0//EN
X-WR-CALDESC:GoogleカレンダーやiCalendar形式情報を共有シェ
 アしましょう。近所のイベントから全国のイベントま
 で今日のイベント検索やスケジュールを決めるならち
 っくたっく
X-WR-CALNAME:ちっくたっく
X-WR-TIMEZONE:UTC
BEGIN:VEVENT
SUMMARY:(รองไพฑูรย์)ร่วมรัฐพิธี
 วันที่ระลึกคล้ายวันสวรรค
 ต"สมเด็จพระนเรศวรมหาราช" ณ 
 ห้องประชุมชั้น 5 อาคารเทพา 
 ศาลากลางจังหวัดศรีสะเกษ
DTSTART;VALUE=DATE-TIME:20260425T010000Z
DTEND;VALUE=DATE-TIME:20260425T050000Z
UID:310872338345
DESCRIPTION:(รองไพฑูรย์)ร่วมรัฐพิธ
 ีวันที่ระลึกคล้ายวันสวรร
 คต"สมเด็จพระนเรศวรมหาราช" 
 ณ ห้องประชุมชั้น 5 อาคารเทพ
 า ศาลากลางจังหวัดศรีสะเกษ
LOCATION:
END:VEVENT
END:VCALENDAR
