BEGIN:VCALENDAR
VERSION:2.0
PRODID:-//chikkutakku.com//RDFCal 1.0//EN
X-WR-CALDESC:GoogleカレンダーやiCalendar形式情報を共有シェ
 アしましょう。近所のイベントから全国のイベントま
 で今日のイベント検索やスケジュールを決めるならち
 っくたっく
X-WR-CALNAME:ちっくたっく
X-WR-TIMEZONE:UTC
BEGIN:VEVENT
SUMMARY:(รองไพฑูรย์)ประชุมคณะกร
 รมการส่งเสริมวิสาหกิจชุม
 ชนจังหวัดศรีสะเกษ ครั้งที
 ่1/2569 ณ ห้องประชุมชั้น 1 อาคาร
 ส่งเสริมเกษตรอินทรีย์วิถ
 ีศรีสะเกษ สนง.เกษตรจังหวัด
 ศรีสะเกษ
DTSTART;VALUE=DATE-TIME:20260423T063000Z
DTEND;VALUE=DATE-TIME:20260423T093000Z
UID:311372840668
DESCRIPTION:(รองไพฑูรย์)ประชุมคณะก
 รรมการส่งเสริมวิสาหกิจชุ
 มชนจังหวัดศรีสะเกษ ครั้งท
 ี่1/2569 ณ ห้องประชุมชั้น 1 อาคา
 รส่งเสริมเกษตรอินทรีย์วิ
 ถีศรีสะเกษ สนง.เกษตรจังหวั
 ดศรีสะเกษ
LOCATION:
END:VEVENT
END:VCALENDAR
