BEGIN:VCALENDAR
VERSION:2.0
PRODID:-//chikkutakku.com//RDFCal 1.0//EN
X-WR-CALDESC:GoogleカレンダーやiCalendar形式情報を共有シェ
 アしましょう。近所のイベントから全国のイベントま
 で今日のイベント検索やスケジュールを決めるならち
 っくたっく
X-WR-CALNAME:ちっくたっく
X-WR-TIMEZONE:UTC
BEGIN:VEVENT
SUMMARY:★確定開課★【新竹】4/22 產品策略與開發實務：A
 I工具、流程與應用
DTSTART;VALUE=DATE-TIME:20260421T160000Z
DTEND;VALUE=DATE-TIME:20260422T155959Z
UID:311463109809
DESCRIPTION:★確定開課★【新竹】4/22 產品策略與開發實務
 ：AI工具、流程與應用
LOCATION:
END:VEVENT
END:VCALENDAR
