BEGIN:VCALENDAR
VERSION:2.0
PRODID:-//chikkutakku.com//RDFCal 1.0//EN
X-WR-CALDESC:GoogleカレンダーやiCalendar形式情報を共有シェ
 アしましょう。近所のイベントから全国のイベントま
 で今日のイベント検索やスケジュールを決めるならち
 っくたっく
X-WR-CALNAME:ちっくたっく
X-WR-TIMEZONE:UTC
BEGIN:VEVENT
SUMMARY:【注】異世界魔王と召喚少女の奴隷魔術 #1 魔王
 演技 / #2 最強新人 / #3 魔族襲来 / #4 迫撃乱舞 / #5 国家
 騎士 / #6 奴隷市場 / #7 人心変転 / #8 英雄驀進 / #9 聖騎
 士譚 / #10 魔王復活 / #11 幼女覚醒 / #12 真贋対戦
DTSTART;VALUE=DATE-TIME:20260420T023000Z
DTEND;VALUE=DATE-TIME:20260420T083000Z
UID:312451136906
DESCRIPTION: / #1 魔王演技 / #2 最強新人 / #3 魔族襲来 / #4 
 迫撃乱舞 / #5 国家騎士 / #6 奴隷市場 / #7 人心変転 / #8 
 英雄驀進 / #9 聖騎士譚 / #10 魔王復活 / #11 幼女覚醒 / #12
  真贋対戦 / ([[異世界・ファンタジー2 https://abema.tv/timeta
 ble/channels/isekai-anime-2]]) https://abema.tv/channels/isekai-anime-2/sl
 ots/Ah77oF14YA18Fh リピート放送は 17:30～ https://abema.tv/channel
 s/isekai-anime-2/slots/Ah77oqspv6iPL3 、4/21(火) 5:30～ https://abema.t
 v/channels/isekai-anime-2/slots/Ah77ncp8QcHjyR (無料TS1週間)
LOCATION:ABEMA特設その他
END:VEVENT
END:VCALENDAR
