BEGIN:VCALENDAR
VERSION:2.0
PRODID:-//chikkutakku.com//RDFCal 1.0//EN
X-WR-CALDESC:GoogleカレンダーやiCalendar形式情報を共有シェ
 アしましょう。近所のイベントから全国のイベントま
 で今日のイベント検索やスケジュールを決めるならち
 っくたっく
X-WR-CALNAME:ちっくたっく
X-WR-TIMEZONE:UTC
BEGIN:VEVENT
SUMMARY:星と宙のワールド巡り【第276回雑食系ワールドツ
 アー】
DTSTART;VALUE=DATE-TIME:20260424T120000Z
DTEND;VALUE=DATE-TIME:20260424T140000Z
UID:312607816892
DESCRIPTION:【イベント主催者】\n　常盤いるむ\n【イベン
 ト内容】\n　毎週テーマを決めて新旧色々なワールドを
 訪問するワールド巡りイベントです。今回は星や宇宙
 がテーマのワールドを巡っていきます。23時前に集合写
 真を撮って〆にします。\n【イベントジャンル】\n　そ
 の他交流会\, 定期イベント\n【参加条件（モデル、人数
 制限など）】\n　ドレスコードは特にありませんが極端
 に重いアバターはお控えください。他騒音やハラスメ
 ントなどイベント全般での一般的な迷惑行為、無断で
 の動画録画や配信行為、ワールドに対する過剰な批評
 行為は禁止しています。\nイベント運営上みだりにポー
 タルを出したりGlobalのワールドギミックを操作するの
 はお控えください。\nワールドの定員により満席となる
 場合がありますがその際にはご了承ください。\n【参加
 方法】\n　（https://vrchat.com/home/group/grp_350d65ad-18b9-464c-982c
 -6d3a62a0ffb2）グループ「雑食系ワールドツアー」に参加
 後、開始時間に開くGroupインスタンスにJoinして下さい
 。\n※グループ参加申請はイベント開始時間前までに余
 裕持ってお願いします。\n【備考】\n　https://x.com/tokiwail
 m/status/2045800923935748127
LOCATION:
END:VEVENT
END:VCALENDAR
