BEGIN:VCALENDAR
VERSION:2.0
PRODID:-//chikkutakku.com//RDFCal 1.0//EN
X-WR-CALDESC:GoogleカレンダーやiCalendar形式情報を共有シェ
 アしましょう。近所のイベントから全国のイベントま
 で今日のイベント検索やスケジュールを決めるならち
 っくたっく
X-WR-CALNAME:ちっくたっく
X-WR-TIMEZONE:UTC
BEGIN:VEVENT
SUMMARY:(V) Trace Monotypes: Printing Without a Press
DTSTART;VALUE=DATE-TIME:20260504T220000Z
DTEND;VALUE=DATE-TIME:20260505T000000Z
UID:313160836360
DESCRIPTION:https://docs.google.com/document/d/1OX3E_R9NPiBD2cesMlaPKerPWP
 XXTR7lxEcnVC95Rvc/edit?usp=sharing\nhttps://shop.centerforbookarts.org/pro
 ducts/26spm002v
LOCATION:
END:VEVENT
END:VCALENDAR
