BEGIN:VCALENDAR
VERSION:2.0
PRODID:-//chikkutakku.com//RDFCal 1.0//EN
X-WR-CALDESC:GoogleカレンダーやiCalendar形式情報を共有シェ
 アしましょう。近所のイベントから全国のイベントま
 で今日のイベント検索やスケジュールを決めるならち
 っくたっく
X-WR-CALNAME:ちっくたっく
X-WR-TIMEZONE:UTC
BEGIN:VEVENT
SUMMARY:法律家のための株式評価
DTSTART;VALUE=DATE:20260426
DTEND;VALUE=DATE:20260427
UID:313587895502
DESCRIPTION:2026-04-27法律家のための株式評価飯田 秀総/久
 保田 安彦有斐閣
LOCATION:
END:VEVENT
END:VCALENDAR
