BEGIN:VCALENDAR
VERSION:2.0
PRODID:-//chikkutakku.com//RDFCal 1.0//EN
X-WR-CALDESC:GoogleカレンダーやiCalendar形式情報を共有シェ
 アしましょう。近所のイベントから全国のイベントま
 で今日のイベント検索やスケジュールを決めるならち
 っくたっく
X-WR-CALNAME:ちっくたっく
X-WR-TIMEZONE:UTC
BEGIN:VEVENT
SUMMARY:学ぶ力
DTSTART;VALUE=DATE:20260518
DTEND;VALUE=DATE:20260519
UID:315413072816
DESCRIPTION:2026-05-19学ぶ力河合 隼雄/工藤 直子/佐伯 胖/森 
 毅/工藤 左千夫岩波書店
LOCATION:
END:VEVENT
END:VCALENDAR
