BEGIN:VCALENDAR
VERSION:2.0
PRODID:-//chikkutakku.com//RDFCal 1.0//EN
X-WR-CALDESC:GoogleカレンダーやiCalendar形式情報を共有シェ
 アしましょう。近所のイベントから全国のイベントま
 で今日のイベント検索やスケジュールを決めるならち
 っくたっく
X-WR-CALNAME:ちっくたっく
X-WR-TIMEZONE:UTC
BEGIN:VEVENT
SUMMARY:呪術廻戦 死滅回游 前編 Vol.2 初回生産限定版【Blu
 -ray】
DTSTART;VALUE=DATE:20260519
DTEND;VALUE=DATE:20260520
UID:316047683539
DESCRIPTION:2026-05-20呪術廻戦 死滅回游 前編 Vol.2 初回生産
 限定版【Blu-ray】芥見下々/榎木淳弥/内田雄馬/小松未可
 子/関智一/矢島陽介/丹羽弘美/照井順政東宝(株)
LOCATION:
END:VEVENT
END:VCALENDAR
