BEGIN:VCALENDAR
VERSION:2.0
PRODID:-//chikkutakku.com//RDFCal 1.0//EN
X-WR-CALDESC:GoogleカレンダーやiCalendar形式情報を共有シェ
 アしましょう。近所のイベントから全国のイベントま
 で今日のイベント検索やスケジュールを決めるならち
 っくたっく
X-WR-CALNAME:ちっくたっく
X-WR-TIMEZONE:UTC
BEGIN:VEVENT
SUMMARY:【初心者歓迎】Bar Leaf ticket
DTSTART;VALUE=DATE-TIME:20260424T140000Z
DTEND;VALUE=DATE-TIME:20260424T145900Z
UID:316055218610
DESCRIPTION:【イベント主催者】\n　みつはまち\n【イベン
 ト内容】\n　オープンスタイルバーになっていて、フレ
 ンドさん同士でのチル空間に使っていただいたりお一
 人でお越しの方も他のゲストさんとの交流の場にした
 りキャストとの会話を楽しんでいただいたり気軽にお
 立ち寄りいただけたらと思います！\n途中入退出自由で
 他のイベントまでの待機に使っていただいたり作業場
 としての利用も大歓迎です！\n豊富なカクテルメニュー
 や美味しいコーヒーと紅茶などを用意しております。\n
 ダーツとシーシャもございます。\n【イベントジャンル
 】\n　店舗系イベント\, 初心者向けイベント\, 定期イベ
 ント\n【参加条件（モデル、人数制限など）】\n　重い
 アバター(40MB目安)、その他規約はグループルールを参
 照の上スタッフの指示に従ってください\n【参加方法】
 \n　グループLEAF.2745に参加して23:00分にJoin\n【備考】\n
 　https://x.com/Leafticket_VRC
LOCATION:
END:VEVENT
END:VCALENDAR
