BEGIN:VCALENDAR
VERSION:2.0
PRODID:-//chikkutakku.com//RDFCal 1.0//EN
X-WR-CALDESC:GoogleカレンダーやiCalendar形式情報を共有シェ
 アしましょう。近所のイベントから全国のイベントま
 で今日のイベント検索やスケジュールを決めるならち
 っくたっく
X-WR-CALNAME:ちっくたっく
X-WR-TIMEZONE:UTC
BEGIN:VEVENT
SUMMARY:【Android 対応】VRCブルアカ集会！～詳しくは概要
 へ～
DTSTART;VALUE=DATE-TIME:20260426T120000Z
DTEND;VALUE=DATE-TIME:20260426T130000Z
UID:316261508181
DESCRIPTION:【イベント主催者】\n　rita 08\n【イベント内容
 】\n　先日配信された「ブルアカらいぶ！」で公開され
 た情報に合わせて、イベント内容を変更中です。VRCブ
 ルアカ集会！のイベント実施は確定ですが、内容は決
 定次第更新されます。\n【イベントジャンル】\n　その
 他交流会\, 初心者向けイベント\, 定期イベント\n【参加
 条件（モデル、人数制限など）】\n　[インスタンス上
 限]\n最大35名まで\n【参加方法】\n　VRCブルアカ集会！(h
 ttps://vrc.group/VRBLAC.3432)のグループに参加し、20:55頃開場
 されるグループインスタンスへ入室をお願いします！\n
 途中参加も歓迎です！\n【備考】\n　VRCブルアカ集会！
 は毎週木曜日と日曜日の21時から活動中！
LOCATION:
END:VEVENT
END:VCALENDAR
