BEGIN:VCALENDAR
VERSION:2.0
PRODID:-//chikkutakku.com//RDFCal 1.0//EN
X-WR-CALDESC:GoogleカレンダーやiCalendar形式情報を共有シェ
 アしましょう。近所のイベントから全国のイベントま
 で今日のイベント検索やスケジュールを決めるならち
 っくたっく
X-WR-CALNAME:ちっくたっく
X-WR-TIMEZONE:UTC
BEGIN:VEVENT
SUMMARY:農家が教える カメムシの防ぎ方 : ここまでわか
 った！謎生態
DTSTART;VALUE=DATE:20260513
DTEND;VALUE=DATE:20260514
UID:316601016490
DESCRIPTION:2026-05-14農家が教える カメムシの防ぎ方 : ここ
 までわかった！謎生態農山漁村文化協会
LOCATION:
END:VEVENT
END:VCALENDAR
