BEGIN:VCALENDAR
VERSION:2.0
PRODID:-//chikkutakku.com//RDFCal 1.0//EN
X-WR-CALDESC:GoogleカレンダーやiCalendar形式情報を共有シェ
 アしましょう。近所のイベントから全国のイベントま
 で今日のイベント検索やスケジュールを決めるならち
 っくたっく
X-WR-CALNAME:ちっくたっく
X-WR-TIMEZONE:UTC
BEGIN:VEVENT
SUMMARY:【Android 対応】寺子屋勉強会（仏教哲学）
DTSTART;VALUE=DATE-TIME:20260425T120000Z
DTEND;VALUE=DATE-TIME:20260425T125000Z
UID:316986931597
DESCRIPTION:【イベント主催者】\n　ふせちゃん\n【イベン
 ト内容】\n　「人は何のために生きるのか」\n「なぜ苦
 しくても自殺してはいけないのか」\n現役内科医が、仏
 教哲学を通して話します。\n【イベントジャンル】\n　
 学術系イベント\n【参加条件（モデル、人数制限など）
 】\n　定員：5名程度\n聞くだけ参加OK／発言は自由です
 。\n主催者が一人ひとりと、やり取りできる人数で行い
 ます。\n\n【参加方法】\n　　「寺子屋勉強会」のグル
 ープパブリックにjoin\nまたは\n ふせちゃんにフレンド
 申請しjoin\n【備考】\n　20˸50～ 入室可\n21˸00～21˸10 雑
 談\n21˸10～21˸40 お話\n21˸40～ 雑談＆質問タイム\n\n講義
 形式なので、21˸15くらいまでには入室をお願いします
 。\nいつもだいたい、2～5人程度で行う事が多いです。\
 n\nイベントの案内はDiscordの「寺子屋ふせちゃん」のサ
 ーバーでも流してます。\n興味のある方はから登録お願
 いします。\nhttps://discord.gg/dTkn3ASZfe
LOCATION:
END:VEVENT
END:VCALENDAR
