BEGIN:VCALENDAR
VERSION:2.0
PRODID:-//chikkutakku.com//RDFCal 1.0//EN
X-WR-CALDESC:GoogleカレンダーやiCalendar形式情報を共有シェ
 アしましょう。近所のイベントから全国のイベントま
 で今日のイベント検索やスケジュールを決めるならち
 っくたっく
X-WR-CALNAME:ちっくたっく
X-WR-TIMEZONE:UTC
BEGIN:VEVENT
SUMMARY:CIS German Student Field Day
DTSTART;VALUE=DATE-TIME:20260422T140000Z
DTEND;VALUE=DATE-TIME:20260422T170000Z
UID:317105250301
DESCRIPTION:CIS German Student Field Day
LOCATION:(CMU Theater - Room 110) Coffman Memorial Union\, 300 Washington 
 Ave SE\, Minneapolis\, MN 55455\, USA
END:VEVENT
END:VCALENDAR
