BEGIN:VCALENDAR
VERSION:2.0
PRODID:-//chikkutakku.com//RDFCal 1.0//EN
X-WR-CALDESC:GoogleカレンダーやiCalendar形式情報を共有シェ
 アしましょう。近所のイベントから全国のイベントま
 で今日のイベント検索やスケジュールを決めるならち
 っくたっく
X-WR-CALNAME:ちっくたっく
X-WR-TIMEZONE:UTC
BEGIN:VEVENT
SUMMARY:ประชุมคณะกรรมการจัดการ
 ข้อร้องเรียน ครั้งที่ 1/2569 
DTSTART;VALUE=DATE-TIME:20260501T063000Z
DTEND;VALUE=DATE-TIME:20260501T093000Z
UID:317296507176
DESCRIPTION:เรียน หัวหน้าฝ่ายวิชา
 การและการเรียนรู้\nสำนักงา
 นมหาวิทยาลัย เชิญประชุมคณ
 ะกรรมการจัดการข้อร้องเรี
 ยน ครั้งที่ 1/2569 เพื่อพิจารณ
 าผลการดำเนินงานการจัดการ
 ข้อร้องเรียน รอบ 6 เดือน ประ
 จำปีงบประมาณ พ.ศ. 2569\nในวันศุ
 กร์ที่ 1 พฤษภาคม 2569 เวลา 13.30–16.30
  น. ณ ห้องประชุม 18316 ชั้น 3 อาคา
 ร 50 ปี\nมหาวิทยาลัยทักษิณ แล
 ะผ่านระบบสื่ออิเล็กทรอนิ
 กส์โปรแกรม ZOOM\nในวันเวลาดัง
 กล่าวตามปฏิทิน หัวหน้าฝ่า
 ย ยังไม่มีภารกิจอื่นใด\nจึ
 งเรียนมาเพื่อโปรดพิจารณา\n
 \nเข้าร่วม\n\nจิตรา ลงเมื่อ 17-04-
 69
LOCATION:18316
END:VEVENT
END:VCALENDAR
