BEGIN:VCALENDAR
VERSION:2.0
PRODID:-//chikkutakku.com//RDFCal 1.0//EN
X-WR-CALDESC:GoogleカレンダーやiCalendar形式情報を共有シェ
 アしましょう。近所のイベントから全国のイベントま
 で今日のイベント検索やスケジュールを決めるならち
 っくたっく
X-WR-CALNAME:ちっくたっく
X-WR-TIMEZONE:UTC
BEGIN:VEVENT
SUMMARY:ประชุมคณะอนุกรรมการจัด
 การทรัพย์สินและหาประโยชน
 ์ ครั้งที่ 4/2569
DTSTART;VALUE=DATE-TIME:20260427T083000Z
DTEND;VALUE=DATE-TIME:20260427T093000Z
UID:317365764805
DESCRIPTION:หัวข้อ: ประชุมคณะอนุกร
 รมการจัดการทรัพย์สินและห
 าประโยชน์ ครั้งที่ 4/2569วัน-เ
 วลา: วันจันทร์ที่ 27 เมษายน 2569
  เวลา 15.30–16.30 น.สถานที่: ห้องปร
 ะชุม 946 ชั้น 4 อาคารสำนักงานอ
 ธิการบดี และผ่านระบบ Zoom Meetingร
 ายละเอียดเพิ่มเติม:Topic: ประช
 ุมคณะอนุกรรมการจัดการทรั
 พย์สินฯ ครั้งที่ 4/69Zoom: https://zoom.us/j
 /96492167324?pwd=uobUqpxelUp8L7Y2gPk3cT9aDsLHlc.1Meeting ID: 964 9216 7324
 Passcode: 956012
LOCATION:ห้องประชุม 946 ชั้น 4 อาคาร
 สำนักงานอธิการบดี และผ่าน
 ระบบ Zoom Meeting
END:VEVENT
END:VCALENDAR
