BEGIN:VCALENDAR
VERSION:2.0
PRODID:-//chikkutakku.com//RDFCal 1.0//EN
X-WR-CALDESC:GoogleカレンダーやiCalendar形式情報を共有シェ
 アしましょう。近所のイベントから全国のイベントま
 で今日のイベント検索やスケジュールを決めるならち
 っくたっく
X-WR-CALNAME:ちっくたっく
X-WR-TIMEZONE:UTC
BEGIN:VEVENT
SUMMARY:JUST LIKE THIS 2025 - History of JUST LIKE THIS -（完全生産
 限定盤）【Blu-ray】
DTSTART;VALUE=DATE:20260519
DTEND;VALUE=DATE:20260520
UID:317855053672
DESCRIPTION:2026-05-20JUST LIKE THIS 2025 - History of JUST LIKE THIS -（
 完全生産限定盤）【Blu-ray】SPYAIR(株)ソニー・ミュージ
 ックレーベルズ
LOCATION:
END:VEVENT
END:VCALENDAR
