BEGIN:VCALENDAR
VERSION:2.0
PRODID:-//chikkutakku.com//RDFCal 1.0//EN
X-WR-CALDESC:GoogleカレンダーやiCalendar形式情報を共有シェ
 アしましょう。近所のイベントから全国のイベントま
 で今日のイベント検索やスケジュールを決めるならち
 っくたっく
X-WR-CALNAME:ちっくたっく
X-WR-TIMEZONE:UTC
BEGIN:VEVENT
SUMMARY:音ゲー交流会Bar"PinkRose"
DTSTART;VALUE=DATE-TIME:20260421T120000Z
DTEND;VALUE=DATE-TIME:20260421T140000Z
UID:318143088246
DESCRIPTION:【イベント主催者】\n　SUI*amtk / kawasak\n【イベ
 ント内容】\n　音楽ゲーム総合交流イベント。\n【イベ
 ントジャンル】\n　その他交流会\, 音楽系イベント\, 定
 期イベント\n【参加条件（モデル、人数制限など）】\n
 　\n【参加方法】\n　グループ「Bar PinkRose」(BPR.0348)に参
 加してjoin、またはSUI*amtkにフレンドを送ってjoin\n【備
 考】\n　詳細はX(@BarPinkRose)またはDiscordサーバーへ
LOCATION:
END:VEVENT
END:VCALENDAR
