BEGIN:VCALENDAR
VERSION:2.0
PRODID:-//chikkutakku.com//RDFCal 1.0//EN
X-WR-CALDESC:GoogleカレンダーやiCalendar形式情報を共有シェ
 アしましょう。近所のイベントから全国のイベントま
 で今日のイベント検索やスケジュールを決めるならち
 っくたっく
X-WR-CALNAME:ちっくたっく
X-WR-TIMEZONE:UTC
BEGIN:VEVENT
SUMMARY:Fan Age Touring Club Expedition
DTSTART;VALUE=DATE-TIME:20260419T170000Z
DTEND;VALUE=DATE-TIME:20260419T183000Z
UID:318227892382
DESCRIPTION:Every other week\, the Fan Age Touring Club will visit a fan a
 ge in Deep Island. We will explore the age\, share our impressions\, try t
 o find little-known secrets and get started with the puzzles if there are 
 any. Today’s age: Enobmort\, by J’Kla.  Stream at https://www.twitc
 h.tv/korovvannoort More info are available in the guidelines post on the 
 GoW forums:https://forum.guildofwriters.org/viewtopic.php?f=111&amp\;t=714
 0 Recordings of the Twitch streams at Korov’ev’s Youtube channel:htt
 ps://www.youtube.com/playlist?list=PLKya7zc1Q4e4ko_QhOKnSJNiKb2zT3CM7For i
 nfo on how to set up a Deep Island client\, see this forum post:https://f
 orum.guildofwriters.org/viewtopic.php?f=111&amp\;t=4611
LOCATION:Deep Island (/hood)
END:VEVENT
END:VCALENDAR
