BEGIN:VCALENDAR
VERSION:2.0
PRODID:-//chikkutakku.com//RDFCal 1.0//EN
X-WR-CALDESC:GoogleカレンダーやiCalendar形式情報を共有シェ
 アしましょう。近所のイベントから全国のイベントま
 で今日のイベント検索やスケジュールを決めるならち
 っくたっく
X-WR-CALNAME:ちっくたっく
X-WR-TIMEZONE:UTC
BEGIN:VEVENT
SUMMARY:Sunday Worship
DTSTART;VALUE=DATE-TIME:20260425T233000Z
DTEND;VALUE=DATE-TIME:20260426T003000Z
UID:318532519926
DESCRIPTION:Today's Service will be led by Rev John Barr who will share a 
 special Message for this day. Today's Service will be in the Auditorium wi
 th Morning Tea to follow. The Sacrament of Holy Communion will be shared d
 uring the Service. You are always welcome at St Andrew's.
LOCATION:St Andrew's Richmond
END:VEVENT
END:VCALENDAR
