BEGIN:VCALENDAR
VERSION:2.0
PRODID:-//chikkutakku.com//RDFCal 1.0//EN
X-WR-CALDESC:GoogleカレンダーやiCalendar形式情報を共有シェ
 アしましょう。近所のイベントから全国のイベントま
 で今日のイベント検索やスケジュールを決めるならち
 っくたっく
X-WR-CALNAME:ちっくたっく
X-WR-TIMEZONE:UTC
BEGIN:VEVENT
SUMMARY:超科学完全版 引き寄せの法則 疑い深い人のため
 の願いをかなえる全技法
DTSTART;VALUE=DATE:20260519
DTEND;VALUE=DATE:20260520
UID:318937614013
DESCRIPTION:2026-05-20超科学完全版 引き寄せの法則 疑い深
 い人のための願いをかなえる全技法くろ丸。KADOKAWA
LOCATION:
END:VEVENT
END:VCALENDAR
