BEGIN:VCALENDAR
VERSION:2.0
PRODID:-//chikkutakku.com//RDFCal 1.0//EN
X-WR-CALDESC:GoogleカレンダーやiCalendar形式情報を共有シェ
 アしましょう。近所のイベントから全国のイベントま
 で今日のイベント検索やスケジュールを決めるならち
 っくたっく
X-WR-CALNAME:ちっくたっく
X-WR-TIMEZONE:UTC
BEGIN:VEVENT
SUMMARY:【Android 対応】【定期営業(JPTOWN)魔いたけにjoin DJ:
 だいふく ジャンル:邦楽全般】Bar羽休め～平日夜の憩い
 の場～
DTSTART;VALUE=DATE-TIME:20260421T130000Z
DTEND;VALUE=DATE-TIME:20260421T140000Z
UID:319033052562
DESCRIPTION:【イベント主催者】\n　魔いたけ\n【イベント
 内容】\n　\n【イベントジャンル】\n　VR飲み会\, 店舗系
 イベント\, 音楽系イベント\, 定期イベント\n【参加条件
 （モデル、人数制限など）】\n　\n【参加方法】\n　\n【
 備考】\n　
LOCATION:
END:VEVENT
END:VCALENDAR
